BEGIN:VCALENDAR
VERSION:2.0
PRODID:-//wp-events-plugin.com//7.2.3.1//EN
TZID:Europe/Amsterdam
X-WR-TIMEZONE:Europe/Amsterdam
BEGIN:VEVENT
UID:400@klink-eindhoven.nl
DTSTART;TZID=Europe/Amsterdam:20241113T193000
DTEND;TZID=Europe/Amsterdam:20241113T213000
DTSTAMP:20241111T135508Z
URL:https://klink-eindhoven.nl/events/watching-jennifers-body-2009/
SUMMARY:Watching Jennifer's Body (2009) 🎬
DESCRIPTION:Come watch the feminist cult classic movie Jennifer's Body\, wr
 itten by Diablo Cody. Vladis will give a brief introduction and we will fo
 llow that with a cozy screening of the film. Bring your notebook to write 
 down your notes and thoughts so we can hear them during the analysis sessi
 on! It's time to become a film bro!
ATTACH;FMTTYPE=image/jpeg:https://klink-eindhoven.nl/wp-content/uploads/20
 24/11/Promo.jpg
CATEGORIES:A One-off Activity
LOCATION:Neuron 0.116\, Laplace 32\, Eindhoven\, Netherlands
X-APPLE-STRUCTURED-LOCATION;VALUE=URI;X-ADDRESS=Laplace 32\, Eindhoven\, Ne
 therlands;X-APPLE-RADIUS=100;X-TITLE=Neuron 0.116:geo:0,0
END:VEVENT
BEGIN:VTIMEZONE
TZID:Europe/Amsterdam
X-LIC-LOCATION:Europe/Amsterdam
BEGIN:STANDARD
DTSTART:20241027T020000
TZOFFSETFROM:+0200
TZOFFSETTO:+0100
TZNAME:CET
END:STANDARD
END:VTIMEZONE
END:VCALENDAR