BEGIN:VCALENDAR
VERSION:2.0
PRODID:-//wp-events-plugin.com//7.2.3.1//EN
TZID:Europe/Amsterdam
X-WR-TIMEZONE:Europe/Amsterdam
BEGIN:VEVENT
UID:202@klink-eindhoven.nl
DTSTART;TZID=Europe/Amsterdam:20240520T193000
DTEND;TZID=Europe/Amsterdam:20240520T235900
DTSTAMP:20240429T151830Z
URL:https://klink-eindhoven.nl/events/open-podium-4-gala-lustrum-associati
 on-celebration-madness/
SUMMARY:Open Podium 4: Gala-Lustrum-Founding-Celebration
DESCRIPTION:Dear Klinkers and Medeklinkers\,\n\nAfter 5 years of being a 
 ‘culture companion’ under Scala’s wings\, we are becoming an officia
 l association. We will be celebrating on May 20th\, with a big open podium
  and gala!!!!\nThe dresscode is ‘Gala with a touch of pink’! The eveni
 ng will start at 19.30 in the Corona hall. After the open podium\, there w
 ill be a band\, music to dance to\, and plenty of time to socialize. Every
 one is invited to join us in this celebration\, so please bring your frien
 ds!\n\nAre you nervous about performing in front of a big audience or woul
 d you like feedback on your performance? We will organize a rehearsal with
  feedback session by a professional at 14.30.\n\nThe costs for the event w
 ill be only €7\,50 if you pre-order a ticket and €10 at the door. You 
 can now sign up for the open podium and/or reserve a ticket for the event 
 via this form: https://forms.gle/MyzcAm1ZdCpwf97T9
ATTACH;FMTTYPE=image/jpeg:https://klink-eindhoven.nl/wp-content/uploads/20
 23/09/galalustrumfoundingopenpodiumKLNKv4.png
CATEGORIES:Open Podium
LOCATION:Corona Room\, De Lampendriessen 31\, Eindhoven\, Netherlands
X-APPLE-STRUCTURED-LOCATION;VALUE=URI;X-ADDRESS=De Lampendriessen 31\, Eind
 hoven\, Netherlands;X-APPLE-RADIUS=100;X-TITLE=Corona Room:geo:0,0
END:VEVENT
BEGIN:VTIMEZONE
TZID:Europe/Amsterdam
X-LIC-LOCATION:Europe/Amsterdam
BEGIN:DAYLIGHT
DTSTART:20240331T030000
TZOFFSETFROM:+0100
TZOFFSETTO:+0200
TZNAME:CEST
END:DAYLIGHT
END:VTIMEZONE
END:VCALENDAR